BEGIN:VCALENDAR
VERSION:2.0
PRODID:-//Eventin//Event Calendar//EN
CALSCALE:GREGORIAN
METHOD:PUBLISH
BEGIN:VEVENT
UID:f0771b46ffef6c76d2275534c45849d2@cv25.org
SUMMARY:Notice: Early Closure on April 25 / Aviso: Cierre Temprano el 25 de
  Abril
DESCRIPTION:English:CentroVilla25 will be closing early at 3:30 PM on Satur
 day\, April 25\, 2026\, due to a private event. We appreciate your understa
 nding and look forward to welcoming you back during our regular hours.\nEsp
 añol:CentroVilla25 cerrará temprano a las 3:30 PM el sábado 25 de abril 
 de 2026 debido a un evento privado. Agradecemos su comprensión y esperamos
  darle la bienvenida nuevamente en nuestro horario regular.
LOCATION:CentroVilla25 - 3140 West 25th Street Cleveland\, OH 44111 - Outdo
 or Plaza
DTSTAMP:20260421T102015Z
DTSTART:20260425T140000Z
DTEND:20260425T193000Z
END:VEVENT
END:VCALENDAR
