BEGIN:VCALENDAR
VERSION:2.0
PRODID:-//Eventin//Event Calendar//EN
CALSCALE:GREGORIAN
METHOD:PUBLISH
BEGIN:VEVENT
UID:b933164ae4fc49420c0dd5b00ec80b85@cv25.org
SUMMARY:Celebrate Mother’s Day at CentroVilla25 | Celebración del Día d
 e las Madres en CentroVilla25
DESCRIPTION:ENGLISH\nCelebrate Mother’s Day with love at CentroVilla25! J
 oin us for a special afternoon featuring a live serenade by Justo Sibirito.
  Enjoy browsing unique gifts from our retail vendors and savor delicious fo
 od from our food vendors. Bring Mom and celebrate together in a vibrant\, w
 elcoming atmosphere.\nDate: Sunday\, May 10\, 2026Time: 12:00 PM – 4:00 P
 MLocation: CentroVilla25\, 3140 W 25th St\, Cleveland\, OHAdmission: Free\n
 \nESPAÑOL\n¡Celebra el Día de las Madres con amor en CentroVilla25! Acom
 páñanos para una tarde especial con una serenata en vivo por Justo Sibiri
 to. Disfruta de regalos únicos de nuestros vendedores minoristas y delicio
 sa comida de nuestros vendedores gastronómicos. Invita a mamá y celebremo
 s juntos en un ambiente alegre y familiar.\nFecha: Domingo\, 10 de mayo de 
 2026Hora: 12:00 PM – 4:00 PMLugar: CentroVilla25\, 3140 W 25th St\, Cleve
 land\, OHEntrada: Gratis
LOCATION:CentroVilla25 - 3140 West 25th Street Cleveland\, OH 44111
DTSTAMP:20260421T103306Z
DTSTART:20260510T160000Z
DTEND:20260510T200000Z
END:VEVENT
END:VCALENDAR
